Package: cellxgenedp Version: 1.15.0 Command: /home/biocbuild/bbs-3.23-bioc/R/bin/R CMD INSTALL cellxgenedp StartedAt: 2025-11-14 15:09:53 -0500 (Fri, 14 Nov 2025) EndedAt: 2025-11-14 15:10:00 -0500 (Fri, 14 Nov 2025) EllapsedTime: 6.8 seconds RetCode: 0 Status: OK