Package: cellxgenedp Version: 1.15.0 Command: /Library/Frameworks/R.framework/Resources/bin/R CMD INSTALL cellxgenedp StartedAt: 2025-11-14 15:05:43 -0500 (Fri, 14 Nov 2025) EndedAt: 2025-11-14 15:05:46 -0500 (Fri, 14 Nov 2025) EllapsedTime: 2.8 seconds RetCode: 0 Status: OK