Package: cellxgenedp Version: 1.15.0 Command: rm -rf cellxgenedp.buildbin-libdir && mkdir cellxgenedp.buildbin-libdir && /Users/biocbuild/BBS/utils/build-universal.sh cellxgenedp_1.15.0.tar.gz /Library/Frameworks/R.framework/Resources/bin/R cellxgenedp.buildbin-libdir StartedAt: 2025-11-14 23:26:02 -0500 (Fri, 14 Nov 2025) EndedAt: 2025-11-14 23:26:05 -0500 (Fri, 14 Nov 2025) EllapsedTime: 3.1 seconds RetCode: 0 Status: OK PackageFile: cellxgenedp_1.15.0.tgz PackageFileSize: 506.4 KiB