Package: cellscape Version: 1.35.0 Command: /home/biocbuild/bbs-3.23-bioc/R/bin/R CMD INSTALL cellscape StartedAt: 2025-11-14 15:10:16 -0500 (Fri, 14 Nov 2025) EndedAt: 2025-11-14 15:10:21 -0500 (Fri, 14 Nov 2025) EllapsedTime: 4.9 seconds RetCode: 0 Status: OK