Package: cellscape Version: 1.35.0 Command: /Library/Frameworks/R.framework/Resources/bin/R CMD INSTALL cellscape StartedAt: 2025-11-13 15:05:22 -0500 (Thu, 13 Nov 2025) EndedAt: 2025-11-13 15:05:26 -0500 (Thu, 13 Nov 2025) EllapsedTime: 3.8 seconds RetCode: 0 Status: OK