Package: cellscape Version: 1.35.0 Command: /Library/Frameworks/R.framework/Resources/bin/R CMD build --keep-empty-dirs --no-resave-data cellscape StartedAt: 2025-11-13 15:54:48 -0500 (Thu, 13 Nov 2025) EndedAt: 2025-11-13 15:54:52 -0500 (Thu, 13 Nov 2025) EllapsedTime: 4.0 seconds RetCode: 0 Status: OK PackageFile: cellscape_1.35.0.tar.gz PackageFileSize: 897.2 KiB