Package: cellity Version: 1.39.0 Command: /home/biocbuild/bbs-3.23-bioc/R/bin/R CMD INSTALL cellity StartedAt: 2025-11-23 15:40:27 -0500 (Sun, 23 Nov 2025) EndedAt: 2025-11-23 15:40:44 -0500 (Sun, 23 Nov 2025) EllapsedTime: 16.8 seconds RetCode: 0 Status: OK