Package: cellity Version: 1.39.0 Command: /Library/Frameworks/R.framework/Resources/bin/R CMD INSTALL cellity StartedAt: 2025-11-14 15:20:45 -0500 (Fri, 14 Nov 2025) EndedAt: 2025-11-14 15:20:53 -0500 (Fri, 14 Nov 2025) EllapsedTime: 7.4 seconds RetCode: 0 Status: OK