Package: cellity Version: 1.39.0 Command: rm -rf cellity.buildbin-libdir && mkdir cellity.buildbin-libdir && /Users/biocbuild/BBS/utils/build-universal.sh cellity_1.39.0.tar.gz /Library/Frameworks/R.framework/Resources/bin/R cellity.buildbin-libdir StartedAt: 2025-11-14 23:25:55 -0500 (Fri, 14 Nov 2025) EndedAt: 2025-11-14 23:26:05 -0500 (Fri, 14 Nov 2025) EllapsedTime: 9.2 seconds RetCode: 0 Status: OK PackageFile: cellity_1.39.0.tgz PackageFileSize: 1.404 MiB