Package: cellbaseR Version: 1.35.0 Command: /home/biocbuild/bbs-3.23-bioc/R/bin/R CMD INSTALL cellbaseR StartedAt: 2025-11-14 15:24:44 -0500 (Fri, 14 Nov 2025) EndedAt: 2025-11-14 15:24:57 -0500 (Fri, 14 Nov 2025) EllapsedTime: 13.6 seconds RetCode: 0 Status: OK