Package: cellbaseR Version: 1.35.0 Command: /home/biocbuild/bbs-3.23-bioc/R/bin/R CMD build --keep-empty-dirs --no-resave-data cellbaseR StartedAt: 2025-11-13 16:39:55 -0500 (Thu, 13 Nov 2025) EndedAt: 2025-11-13 16:40:42 -0500 (Thu, 13 Nov 2025) EllapsedTime: 47.0 seconds RetCode: 0 Status: OK PackageFile: cellbaseR_1.35.0.tar.gz PackageFileSize: 520.7 KiB