Package: cellbaseR Version: 1.35.0 Maintainer: Mohammed OE Abdallah MaintainerEmail: melsiddieg at gmail.com git_url: https://git.bioconductor.org/packages/cellbaseR git_branch: devel git_last_commit: 6f10847 git_last_commit_date: 2025-10-29 10:38:23 -0500 (Wed, 29 Oct 2025)