Package: celda Version: 1.27.0 Command: /Library/Frameworks/R.framework/Resources/bin/R CMD INSTALL celda StartedAt: 2025-11-21 15:29:05 -0500 (Fri, 21 Nov 2025) EndedAt: 2025-11-21 15:29:31 -0500 (Fri, 21 Nov 2025) EllapsedTime: 25.8 seconds RetCode: 0 Status: OK