Package: celda Version: 1.27.0 Command: /Library/Frameworks/R.framework/Resources/bin/R CMD build --keep-empty-dirs --no-resave-data celda StartedAt: 2025-11-21 15:50:23 -0500 (Fri, 21 Nov 2025) EndedAt: 2025-11-21 15:52:10 -0500 (Fri, 21 Nov 2025) EllapsedTime: 107.2 seconds RetCode: 0 Status: OK PackageFile: celda_1.27.0.tar.gz PackageFileSize: 2.507 MiB