Package: celda Version: 1.27.0 Command: rm -rf celda.buildbin-libdir && mkdir celda.buildbin-libdir && /Users/biocbuild/BBS/utils/build-universal.sh celda_1.27.0.tar.gz /Library/Frameworks/R.framework/Resources/bin/R celda.buildbin-libdir StartedAt: 2025-11-21 23:25:20 -0500 (Fri, 21 Nov 2025) EndedAt: 2025-11-21 23:25:48 -0500 (Fri, 21 Nov 2025) EllapsedTime: 27.6 seconds RetCode: 0 Status: OK PackageFile: celda_1.27.0.tgz PackageFileSize: 3.461 MiB