Package: celaref Version: 1.29.0 Command: /Library/Frameworks/R.framework/Resources/bin/R CMD INSTALL celaref StartedAt: 2025-11-14 15:13:33 -0500 (Fri, 14 Nov 2025) EndedAt: 2025-11-14 15:13:44 -0500 (Fri, 14 Nov 2025) EllapsedTime: 11.1 seconds RetCode: 0 Status: OK