Package: celaref Version: 1.29.0 Command: /Library/Frameworks/R.framework/Resources/bin/R CMD build --keep-empty-dirs --no-resave-data celaref StartedAt: 2025-11-14 15:50:37 -0500 (Fri, 14 Nov 2025) EndedAt: 2025-11-14 15:51:42 -0500 (Fri, 14 Nov 2025) EllapsedTime: 64.7 seconds RetCode: 0 Status: OK PackageFile: celaref_1.29.0.tar.gz PackageFileSize: 3.073 MiB