Package: celaref Version: 1.29.0 Command: rm -rf celaref.buildbin-libdir && mkdir celaref.buildbin-libdir && /Users/biocbuild/BBS/utils/build-universal.sh celaref_1.29.0.tar.gz /Library/Frameworks/R.framework/Resources/bin/R celaref.buildbin-libdir StartedAt: 2025-11-14 23:25:47 -0500 (Fri, 14 Nov 2025) EndedAt: 2025-11-14 23:26:02 -0500 (Fri, 14 Nov 2025) EllapsedTime: 14.3 seconds RetCode: 0 Status: OK PackageFile: celaref_1.29.0.tgz PackageFileSize: 3.064 MiB