Package: ceRNAnetsim Version: 1.23.0 Command: /home/biocbuild/bbs-3.23-bioc/R/bin/R CMD INSTALL ceRNAnetsim StartedAt: 2025-11-14 15:10:03 -0500 (Fri, 14 Nov 2025) EndedAt: 2025-11-14 15:10:11 -0500 (Fri, 14 Nov 2025) EllapsedTime: 8.2 seconds RetCode: 0 Status: OK