Package: ceRNAnetsim Version: 1.23.0 Command: /home/biocbuild/bbs-3.23-bioc/R/bin/R CMD build --keep-empty-dirs --no-resave-data ceRNAnetsim StartedAt: 2025-11-14 16:44:06 -0500 (Fri, 14 Nov 2025) EndedAt: 2025-11-14 16:48:23 -0500 (Fri, 14 Nov 2025) EllapsedTime: 257.3 seconds RetCode: 0 Status: OK PackageFile: ceRNAnetsim_1.23.0.tar.gz PackageFileSize: 2.966 MiB