Package: ceRNAnetsim Version: 1.23.0 Command: /Library/Frameworks/R.framework/Resources/bin/R CMD INSTALL ceRNAnetsim StartedAt: 2025-11-13 15:05:15 -0500 (Thu, 13 Nov 2025) EndedAt: 2025-11-13 15:05:19 -0500 (Thu, 13 Nov 2025) EllapsedTime: 4.0 seconds RetCode: 0 Status: OK