Package: ceRNAnetsim Version: 1.23.0 Command: /Library/Frameworks/R.framework/Resources/bin/R CMD build --keep-empty-dirs --no-resave-data ceRNAnetsim StartedAt: 2025-11-13 15:55:07 -0500 (Thu, 13 Nov 2025) EndedAt: 2025-11-13 15:56:47 -0500 (Thu, 13 Nov 2025) EllapsedTime: 100.2 seconds RetCode: 0 Status: OK PackageFile: ceRNAnetsim_1.23.0.tar.gz PackageFileSize: 3.065 MiB