Package: ceRNAnetsim Version: 1.23.0 Command: rm -rf ceRNAnetsim.buildbin-libdir && mkdir ceRNAnetsim.buildbin-libdir && /Users/biocbuild/BBS/utils/build-universal.sh ceRNAnetsim_1.23.0.tar.gz /Library/Frameworks/R.framework/Resources/bin/R ceRNAnetsim.buildbin-libdir StartedAt: 2025-11-13 23:31:01 -0500 (Thu, 13 Nov 2025) EndedAt: 2025-11-13 23:31:06 -0500 (Thu, 13 Nov 2025) EllapsedTime: 5.1 seconds RetCode: 0 Status: OK PackageFile: ceRNAnetsim_1.23.0.tgz PackageFileSize: 2.594 MiB