Package: ccrepe Version: 1.47.0 Command: /home/biocbuild/bbs-3.23-bioc/R/bin/R CMD build --keep-empty-dirs --no-resave-data ccrepe StartedAt: 2025-11-13 16:39:31 -0500 (Thu, 13 Nov 2025) EndedAt: 2025-11-13 16:39:42 -0500 (Thu, 13 Nov 2025) EllapsedTime: 11.0 seconds RetCode: 0 Status: OK PackageFile: ccrepe_1.47.0.tar.gz PackageFileSize: 304 KiB