Package: ccrepe Version: 1.47.0 Command: rm -rf ccrepe.buildbin-libdir && mkdir ccrepe.buildbin-libdir && /Users/biocbuild/BBS/utils/build-universal.sh ccrepe_1.47.0.tar.gz /Library/Frameworks/R.framework/Resources/bin/R ccrepe.buildbin-libdir StartedAt: 2025-11-13 23:30:43 -0500 (Thu, 13 Nov 2025) EndedAt: 2025-11-13 23:30:45 -0500 (Thu, 13 Nov 2025) EllapsedTime: 2.1 seconds RetCode: 0 Status: OK PackageFile: ccrepe_1.47.0.tgz PackageFileSize: 360.7 KiB