Package: ccrepe Version: 1.47.0 Maintainer: Emma Schwager ,Craig Bielski, George Weingart MaintainerEmail: george.weingart at gmail.com git_url: https://git.bioconductor.org/packages/ccrepe git_branch: devel git_last_commit: 2b6c5e9 git_last_commit_date: 2025-10-29 10:17:30 -0500 (Wed, 29 Oct 2025)