Package: ccmap Version: 1.35.1 Command: /home/biocbuild/bbs-3.23-bioc/R/bin/R CMD INSTALL ccmap StartedAt: 2025-10-22 21:57:05 -0000 (Wed, 22 Oct 2025) EndedAt: 2025-10-22 21:57:06 -0000 (Wed, 22 Oct 2025) EllapsedTime: 0.7 seconds RetCode: 1 Status: ERROR