############################################################################## ############################################################################## ### ### Running command: ### ### /home/biocbuild/bbs-3.23-bioc/R/bin/R CMD INSTALL ccmap ### ############################################################################## ############################################################################## * installing to library ‘/home/biocbuild/bbs-3.23-bioc/R/site-library’ ERROR: dependency ‘ccdata’ is not available for package ‘ccmap’ Perhaps try a variation of: install.packages('ccdata') * removing ‘/home/biocbuild/bbs-3.23-bioc/R/site-library/ccmap’