############################################################################## ############################################################################## ### ### Running command: ### ### /home/biocbuild/bbs-3.23-bioc/R/bin/R CMD build --keep-empty-dirs --no-resave-data ccmap ### ############################################################################## ############################################################################## * checking for file ‘ccmap/DESCRIPTION’ ... OK * preparing ‘ccmap’: * checking DESCRIPTION meta-information ... OK * installing the package (it is needed to build vignettes) ----------------------------------- ERROR: dependency ‘ccdata’ is not available for package ‘ccmap’ Perhaps try a variation of: install.packages('ccdata') * removing ‘/tmp/Rtmpba3Lll/Rinsta87f87e4beadc/ccmap’ ----------------------------------- ERROR: package installation failed