Package: ccfindR Version: 1.31.0 Command: /Library/Frameworks/R.framework/Resources/bin/R CMD INSTALL ccfindR StartedAt: 2025-11-13 15:12:14 -0500 (Thu, 13 Nov 2025) EndedAt: 2025-11-13 15:12:15 -0500 (Thu, 13 Nov 2025) EllapsedTime: 1.0 seconds RetCode: 1 Status: ERROR