Package: cbaf Version: 1.33.0 Command: /Library/Frameworks/R.framework/Resources/bin/R CMD INSTALL cbaf StartedAt: 2025-11-14 15:23:37 -0500 (Fri, 14 Nov 2025) EndedAt: 2025-11-14 15:23:55 -0500 (Fri, 14 Nov 2025) EllapsedTime: 17.7 seconds RetCode: 0 Status: OK