Package: cbaf Version: 1.33.0 Command: /Library/Frameworks/R.framework/Resources/bin/R CMD build --keep-empty-dirs --no-resave-data cbaf StartedAt: 2025-11-14 15:50:05 -0500 (Fri, 14 Nov 2025) EndedAt: 2025-11-14 15:50:32 -0500 (Fri, 14 Nov 2025) EllapsedTime: 27.3 seconds RetCode: 0 Status: OK PackageFile: cbaf_1.33.0.tar.gz PackageFileSize: 786.1 KiB