Package: cbaf Version: 1.33.0 Command: rm -rf cbaf.buildbin-libdir && mkdir cbaf.buildbin-libdir && /Users/biocbuild/BBS/utils/build-universal.sh cbaf_1.33.0.tar.gz /Library/Frameworks/R.framework/Resources/bin/R cbaf.buildbin-libdir StartedAt: 2025-11-14 23:25:38 -0500 (Fri, 14 Nov 2025) EndedAt: 2025-11-14 23:26:00 -0500 (Fri, 14 Nov 2025) EllapsedTime: 21.5 seconds RetCode: 0 Status: OK PackageFile: cbaf_1.33.0.tgz PackageFileSize: 899.3 KiB