Package: categoryCompare Version: 1.55.0 Command: /Library/Frameworks/R.framework/Resources/bin/R CMD build --keep-empty-dirs --no-resave-data categoryCompare StartedAt: 2025-11-13 15:53:00 -0500 (Thu, 13 Nov 2025) EndedAt: 2025-11-13 15:54:04 -0500 (Thu, 13 Nov 2025) EllapsedTime: 63.7 seconds RetCode: 0 Status: OK PackageFile: categoryCompare_1.55.0.tar.gz PackageFileSize: 3.163 MiB