Package: categoryCompare Version: 1.55.0 Command: rm -rf categoryCompare.buildbin-libdir && mkdir categoryCompare.buildbin-libdir && /Users/biocbuild/BBS/utils/build-universal.sh categoryCompare_1.55.0.tar.gz /Library/Frameworks/R.framework/Resources/bin/R categoryCompare.buildbin-libdir StartedAt: 2025-11-14 23:25:34 -0500 (Fri, 14 Nov 2025) EndedAt: 2025-11-14 23:25:47 -0500 (Fri, 14 Nov 2025) EllapsedTime: 13.3 seconds RetCode: 0 Status: OK PackageFile: categoryCompare_1.55.0.tgz PackageFileSize: 2.557 MiB