Package: canceR Version: 1.45.0 Command: /home/biocbuild/bbs-3.23-bioc/R/bin/R CMD INSTALL canceR StartedAt: 2025-11-21 15:58:16 -0500 (Fri, 21 Nov 2025) EndedAt: 2025-11-21 15:59:35 -0500 (Fri, 21 Nov 2025) EllapsedTime: 79.1 seconds RetCode: 0 Status: OK