Package: canceR Version: 1.45.0 Command: /Library/Frameworks/R.framework/Resources/bin/R CMD INSTALL canceR StartedAt: 2025-11-13 15:33:17 -0500 (Thu, 13 Nov 2025) EndedAt: 2025-11-13 15:33:54 -0500 (Thu, 13 Nov 2025) EllapsedTime: 37.3 seconds RetCode: 0 Status: OK