Package: canceR Version: 1.45.0 Command: rm -rf canceR.buildbin-libdir && mkdir canceR.buildbin-libdir && /Users/biocbuild/BBS/utils/build-universal.sh canceR_1.45.0.tar.gz /Library/Frameworks/R.framework/Resources/bin/R canceR.buildbin-libdir StartedAt: 2025-11-12 20:52:49 -0500 (Wed, 12 Nov 2025) EndedAt: 2025-11-12 20:54:51 -0500 (Wed, 12 Nov 2025) EllapsedTime: 121.4 seconds RetCode: 0 Status: OK PackageFile: canceR_1.45.0.tgz PackageFileSize: 14.92 MiB