Package: calm Version: 1.25.0 Command: /home/biocbuild/bbs-3.23-bioc/R/bin/R CMD build --keep-empty-dirs --no-resave-data calm StartedAt: 2025-11-14 16:36:35 -0500 (Fri, 14 Nov 2025) EndedAt: 2025-11-14 16:38:33 -0500 (Fri, 14 Nov 2025) EllapsedTime: 118.1 seconds RetCode: 0 Status: OK PackageFile: calm_1.25.0.tar.gz PackageFileSize: 394.2 KiB