Package: calm Version: 1.25.0 Command: /Library/Frameworks/R.framework/Resources/bin/R CMD build --keep-empty-dirs --no-resave-data calm StartedAt: 2025-11-14 15:49:09 -0500 (Fri, 14 Nov 2025) EndedAt: 2025-11-14 15:49:53 -0500 (Fri, 14 Nov 2025) EllapsedTime: 43.5 seconds RetCode: 0 Status: OK PackageFile: calm_1.25.0.tar.gz PackageFileSize: 397.6 KiB