Package: calm Version: 1.25.0 Maintainer: Kun Liang MaintainerEmail: kun.liang at uwaterloo.ca git_url: https://git.bioconductor.org/packages/calm git_branch: devel git_last_commit: cd3e034 git_last_commit_date: 2025-10-29 10:53:57 -0500 (Wed, 29 Oct 2025)