Package: cTRAP Version: 1.29.0 Command: /home/biocbuild/bbs-3.23-bioc/R/bin/R CMD INSTALL cTRAP StartedAt: 2025-11-14 15:38:47 -0500 (Fri, 14 Nov 2025) EndedAt: 2025-11-14 15:39:18 -0500 (Fri, 14 Nov 2025) EllapsedTime: 30.8 seconds RetCode: 0 Status: OK