Package: cBioPortalData Version: 2.23.2 Command: /home/biocbuild/bbs-3.23-bioc/R/bin/R CMD INSTALL cBioPortalData StartedAt: 2025-11-11 15:48:57 -0500 (Tue, 11 Nov 2025) EndedAt: 2025-11-11 15:49:40 -0500 (Tue, 11 Nov 2025) EllapsedTime: 42.4 seconds RetCode: 0 Status: OK