Package: cBioPortalData Version: 2.23.2 Command: /home/biocbuild/bbs-3.23-bioc/R/bin/R CMD build --keep-empty-dirs --no-resave-data cBioPortalData StartedAt: 2025-11-11 16:42:32 -0500 (Tue, 11 Nov 2025) EndedAt: 2025-11-11 16:44:45 -0500 (Tue, 11 Nov 2025) EllapsedTime: 132.1 seconds RetCode: 0 Status: OK PackageFile: cBioPortalData_2.23.2.tar.gz PackageFileSize: 1.009 MiB