Package: cBioPortalData Version: 2.23.2 Command: /Library/Frameworks/R.framework/Resources/bin/R CMD INSTALL cBioPortalData StartedAt: 2025-11-13 15:24:07 -0500 (Thu, 13 Nov 2025) EndedAt: 2025-11-13 15:24:24 -0500 (Thu, 13 Nov 2025) EllapsedTime: 17.3 seconds RetCode: 0 Status: OK