Package: cBioPortalData Version: 2.23.2 Command: /Library/Frameworks/R.framework/Resources/bin/R CMD build --keep-empty-dirs --no-resave-data cBioPortalData StartedAt: 2025-11-13 15:53:09 -0500 (Thu, 13 Nov 2025) EndedAt: 2025-11-13 15:54:10 -0500 (Thu, 13 Nov 2025) EllapsedTime: 61.7 seconds RetCode: 0 Status: OK PackageFile: cBioPortalData_2.23.2.tar.gz PackageFileSize: 1.004 MiB