Package: cBioPortalData Version: 2.23.2 Command: rm -rf cBioPortalData.buildbin-libdir && mkdir cBioPortalData.buildbin-libdir && /Users/biocbuild/BBS/utils/build-universal.sh cBioPortalData_2.23.2.tar.gz /Library/Frameworks/R.framework/Resources/bin/R cBioPortalData.buildbin-libdir StartedAt: 2025-11-12 20:53:03 -0500 (Wed, 12 Nov 2025) EndedAt: 2025-11-12 20:53:23 -0500 (Wed, 12 Nov 2025) EllapsedTime: 20.4 seconds RetCode: 0 Status: OK PackageFile: cBioPortalData_2.23.2.tgz PackageFileSize: 1.089 MiB