Package: bugsigdbr Version: 1.17.0 Command: /home/biocbuild/bbs-3.23-bioc/R/bin/R CMD INSTALL bugsigdbr StartedAt: 2025-11-14 15:10:44 -0500 (Fri, 14 Nov 2025) EndedAt: 2025-11-14 15:10:54 -0500 (Fri, 14 Nov 2025) EllapsedTime: 10.4 seconds RetCode: 0 Status: OK