Package: bugsigdbr Version: 1.17.0 Command: /Library/Frameworks/R.framework/Resources/bin/R CMD build --keep-empty-dirs --no-resave-data bugsigdbr StartedAt: 2025-11-13 15:51:07 -0500 (Thu, 13 Nov 2025) EndedAt: 2025-11-13 15:51:28 -0500 (Thu, 13 Nov 2025) EllapsedTime: 21.2 seconds RetCode: 0 Status: OK PackageFile: bugsigdbr_1.17.0.tar.gz PackageFileSize: 328.3 KiB