Package: bugsigdbr Version: 1.17.0 Command: rm -rf bugsigdbr.buildbin-libdir && mkdir bugsigdbr.buildbin-libdir && /Users/biocbuild/BBS/utils/build-universal.sh bugsigdbr_1.17.0.tar.gz /Library/Frameworks/R.framework/Resources/bin/R bugsigdbr.buildbin-libdir StartedAt: 2025-11-13 23:30:01 -0500 (Thu, 13 Nov 2025) EndedAt: 2025-11-13 23:30:03 -0500 (Thu, 13 Nov 2025) EllapsedTime: 2.0 seconds RetCode: 0 Status: OK PackageFile: bugsigdbr_1.17.0.tgz PackageFileSize: 361.6 KiB